BEGIN:VCALENDAR
VERSION:2.0
METHOD:PUBLISH
BEGIN:VEVENT
UID:WILD_APRICOT_EVENT_3169509_SESSION_1
DTSTART:20190312T181500Z
DTEND:20190312T213000Z
SUMMARY:Corporate Social Responsibility panel
LOCATION:Auckland University of Technology\, Te Iringa Conference Centre\, 55 Wellesley Street East\, Auckland\, 1010
DESCRIPTION:https://www.amcham.co.nz/event-3169509\n\nCorporate Social Responsibility panel\n  Details to follow\n\n  Date: 13th March 2019\n Time: 7.15 am to 10.30 am\n Venue: Auckland University of Technology\, Te Iringa Conference Centre\, 55 Wellesley Street East\, Auckland\, 1010\n Cost: TBA\n \n NUMBERS LIMITED TO 40\n \n\n
DTSTAMP:20181224T081936Z
END:VEVENT
END:VCALENDAR
