BEGIN:VCALENDAR
VERSION:2.0
METHOD:PUBLISH
BEGIN:VEVENT
UID:WILD_APRICOT_EVENT_3169480_SESSION_1
DTSTART:20190530T053000Z
DTEND:20190530T073000Z
SUMMARY:Reception for Members and others doing business in with USA
LOCATION:Auckland University of Technology\, Sir Paul Reeves Building\, 2 Governor Fitzroy Place (off Mayoral Drive or St Paul's St) Auckland City
DESCRIPTION:https://www.amcham.co.nz/event-3169480\n\n     Reception\n                           \n\n          The Board of the American Chamber of Commerce\n\n          in New Zealand\n          Invites you to a reception for Members and others doing business in with USA\n          This reception will directly follow on from the AGM\n          30th May 2019\n          5.30pm to 7.30pm\n          Auckland University of Technology\, Room WG308\, Sir Paul Reeves Building\, 2 Governor Fitzroy Place(off Mayoral Drive or St Paul's St) Auckland City\n          Hosted by\n          \n\n           \n\n                         \n         
DTSTAMP:20181224T082001Z
END:VEVENT
END:VCALENDAR
