BEGIN:VCALENDAR
VERSION:2.0
METHOD:PUBLISH
BEGIN:VEVENT
UID:WILD_APRICOT_EVENT_3169475_SESSION_1
DTSTART:20190530T050000Z
DTEND:20190530T053000Z
SUMMARY:2019 AGM
LOCATION:Room WG308\, AUT University\, Sir Paul Reeves Building\, 2 Governor Fitzroy Place (off Mayoral Drive or St Paul's St) Auckland City
DESCRIPTION:https://www.amcham.co.nz/event-3169475\n\n                           NOTICE OF AGM\n                                  The 50th Annual General Meeting of The American Chamber of Commerce in New Zealand Inc. will be held at AUT University\, Room WG308\, Sir Paul Reeves Building\, 2 Governor Fitzroy Place (off Mayoral Drive or St Paul's St) Auckland City - 55 Wellesley St\, Auckland 1010\n          on Tuesday 30th May 2019 at 5.00pm\n          1.      Apologies   \n          2.      Confirmation of the Minutes of the 48th Annual General Meeting\, held 25 May 2018\n          3.      Matters arising from the Minutes\n          4.      Presentation of the Presidents Annual Report and Accounts\n          5.      Election of officers of the Board\n          6.      Election of Honorary appointments\n                   Honorary Auditor: REB Group Ltd\n\n                   Honorary Solicitor: Minter Ellison Rudd Watts\n          7.      General Business\n          Please advise if you are able to attend or wish to submit an apology. \n\n          For those attending we will email the Presidents Report\, the 2018 AGM Minutes and the 31/12/18 audited accounts just before the meeting.\n          We thank you for your continued support.\n           A reception will directly follow on from the AGM and a separate invite will be sent shortly\n\n                  Hosted by\n  \n\n  \n\n
DTSTAMP:20181224T081948Z
END:VEVENT
END:VCALENDAR
