BEGIN:VCALENDAR
VERSION:2.0
METHOD:PUBLISH
BEGIN:VEVENT
UID:WILD_APRICOT_EVENT_3068047_SESSION_1
DTSTART:20190218T223000Z
DTEND:20190219T060000Z
SUMMARY:2019 United Airlines - AmCham Ambrose Golf Tournament\, 19th Feb
LOCATION:Akarana Golf Club Inc\, 1388 Dominion Rd\, Mount Roskill\, Auckland 1041
DESCRIPTION:https://www.amcham.co.nz/event-3068047\n\n2019 United Airlines - AmCham Ambrose Golf Tournament\n\n  \n  The tournament is Ambrose format golf\, which means that golfers of all skill levels can take part and enjoy themselves. This is the perfect way to thank clients\, foster new business relationships or build your team's spirit for the year ahead. There will be a MAXIMUM handicap of 24 for any golfer who is not an affiliated golf club member.\n\n  United Airlines has sponsored an return economy airfare to San Francisco for the first person to achieve a hole in one on 8th. If this is not achieved there will be a business card draw. The winner has to be there at the time of the draw to be eligible. \n\n  Eagle Technology has sponsored a day out on their boat "Eagle Magic" as a prize.  This will be a business card draw and the winner has to be there at the time of the draw to be eligible. \n  \nVenue: Akarana Golf Club Inc\, 1388 Dominion Rd\, Mount Roskill\, Auckland 1041  \n Time:\n 11.30am              Registration & BBQ Lunch\n 12.15pm             Teams move to allocated tees\n 12.30noon          Tee Off\n 5.30pm                Pre-dinner drinks\n 6.30pm                Dinner and prize giving\n 7.00pm                Finish\n  Cost:\n Hole sponsor & Team of four $1\,000.00 inc GST\n Team of four $750.00 inc GST\n Individual entry $187.50 incGST\n\n  Longest Drive sponsorship 18th hole $172.50 inc GST\n Nearest the Pin sponsorship 8th hole $172.50 inc GST\nNearest the Pin sponsorship 15th hole $172.50 inc GST\n  We are also looking for prize donations.\n\nRegistrations close 9th February    \n\n
DTSTAMP:20181224T081923Z
END:VEVENT
END:VCALENDAR
