BEGIN:VCALENDAR
VERSION:2.0
METHOD:PUBLISH
BEGIN:VEVENT
UID:WILD_APRICOT_EVENT_3068036_SESSION_1
DTSTART:20190815T060000Z
DTEND:20190815T103000Z
SUMMARY:2019 AmCham-DHL Express Success & Innovations Awards
LOCATION:Pullman Hotel\, Princes Street\, Auckland 1010
DESCRIPTION:https://www.amcham.co.nz/event-3068036\n\n\n2019 AmCham-DHL Express Success & Innovation Awards\n  \nWe invite you to join us celebrating the 20th Annual AmCham-DHL Express Success & Innovation Awards\n held in conjunction with United Airlines\n for companies doing business with the USA.\n  The awards honour companies using entrepreneurship and innovation in achieving success in the fast moving\, highly competitive U.S market.\n  The awards presented this year will be:\n      * -          Importer of the Year from the USA\n\n        * -          Exporter of the Year – under NZ$1m\n\n        * -          Exporter of the Year – NZ$1m to NZ$10m\n\n        * -          Exporter of the Year – over NZ$10m\n\n        * -          Investor of the Year to or from the US\n\n        * -          Contribution to Tourism\n\n\n        * -          Bilateral Service Award with the USA\n\n        * -          Bilateral Entrepreneur/Innovator of the Year with the USA\n   \n   \n\n\n  One of the above will be chosen as the Supreme Winner\n      * -      AmCham Supporter of the Year\n\n  We look forward to a fantastic evening celebrating the success of our winners who continue a proud tradition of partnership with the United States\n  When                15th August\n\n  Where               Pullman Hotel\, Princes Street\, Auckland\n\n  Timing               Pre-dinner drinks 6.00 pm for 6.30 pm\n  Dress code        Black tie\nTickets            $250 inc GST per person\n                            $2\,500 inc GST for a table of 10\n                                                 In addition to AmCham\, DHL Express and United Airlines\, the awards are supported by: ANZ Bank\, Baldwins\, Fonterra Co-operative\, the Pullman Hotel Auckland\n\n  Media sponsor - The Business.\n Wine sponsor - Constellation Brands\n Event Manager and sponsor- Lime & Soda\n\n \n  Registrations will not be refunded if bookings are cancelled after 9th August 2019.\n   \n   \n
DTSTAMP:20181224T082013Z
END:VEVENT
END:VCALENDAR
