BEGIN:VCALENDAR
VERSION:2.0
METHOD:PUBLISH
BEGIN:VEVENT
UID:WILD_APRICOT_EVENT_2957736_SESSION_1
DTSTART:20181126T230000Z
DTEND:20181127T010000Z
SUMMARY:Lunch with U.S. Ambassador Scott Brown
LOCATION:Stamford Plaza Hotel\, Albert Street\, Auckland 1010
DESCRIPTION:https://www.amcham.co.nz/event-2957736\n\nLunch with U.S. Ambassador Scott Brown\n  \n\n  We invite you to join us for a briefing by U.S. Ambassador Scott Brown on his first year in New Zealand and an update on the U.S. political and business environment following the U.S. mid-term elections.\n  Date: 27th November\n Time: 12 noon to 2.00 pm\n Venue: Stamford Plaza Hotel\, Albert Street\, Auckland 1010\n Cost: Members $90 inc GST\, Non-members $97.75 inc GST\n\n   \n\n
DTSTAMP:20181224T082300Z
END:VEVENT
END:VCALENDAR
