BEGIN:VCALENDAR
VERSION:2.0
METHOD:PUBLISH
BEGIN:VEVENT
UID:WILD_APRICOT_EVENT_2825674_SESSION_1
DTSTART:20181107T230000Z
DTEND:20181108T010000Z
SUMMARY:November CEO's state of the Boardroom lunch series
LOCATION:Pullman Auckland Hotel
DESCRIPTION:https://www.amcham.co.nz/event-2825674\n\n   By invitation only 
DTSTAMP:20181224T082344Z
END:VEVENT
END:VCALENDAR
