BEGIN:VCALENDAR
VERSION:2.0
METHOD:PUBLISH
BEGIN:VEVENT
UID:WILD_APRICOT_EVENT_2774539_SESSION_1
DTSTART:20181115T040000Z
DTEND:20181115T060000Z
SUMMARY:Annual Year End Celebration and New Member reception\, 15th Nov
LOCATION:Russell McVeagh\, Vero Centre\, Level 30\, 48 Shortland Street\, Auckland 1010
DESCRIPTION:https://www.amcham.co.nz/event-2774539\n\n   Annual Year End Celebration and New Member reception 15th Nov\n   \n   New members will be introduced to the membership and receive their membership certificates.\n     By invitation only.\n \n \n \n
DTSTAMP:20181224T082333Z
END:VEVENT
END:VCALENDAR
