BEGIN:VCALENDAR
VERSION:2.0
METHOD:PUBLISH
BEGIN:VEVENT
UID:WILD_APRICOT_EVENT_2638330_SESSION_1
DTSTART:20170914T053000Z
DTEND:20170914T073000Z
SUMMARY:Alabama Trade Mission to NZ reception
LOCATION:TBA
DESCRIPTION:https://www.amcham.co.nz/event-2638330\n\nAlabama Trade Mission to NZ reception\n  AmCham\, in conjunction with the U.S. Foreign Commercial Service\, is working with the State of Alabama who are bringing a high level investment and business development delegation to New Zealand on 14th September.\n \n Reception for local agents of the delegation\, others doing business with Alabama and those interested in investing in Alabama.   \nThe delegation is being led by Greg Canfield\, Secretary of Commerce\, State of Alabama  Other key delegates:\n      * -        William “Bill” Cummins\, State Director\, Alabama SBDC - The University of Alabama & Vice-Chair\, Alabama District Export Council\n\n        * -        Sophie Howard\, International Trade Specialist\, Alabama Department of Commerce\n\n        * -        Nisa Miranda\, Director\, Center for Economic\, Development\, University of Alabama\n\n        * -        Michael “Mike” Lee\, President & CEO\, Page & Jones\, Inc.\, Chairman\, Alabama District Export Council\n\n        * -        Jeff Rabren\, Senior Vice President\, State Government Affairs & Economic Development\, Regions Bank\n\n        * -        Hilda Lockhart\, Director\, International Trade\, Alabama Department of Commerce\n\n        * -        Robert Stackpole\, Director\, State of Alabama\, Birmingham Export Assistance Center\, U.S. Department of Commerce\n\n        * -        Christina Stimpson\, Director\, International Trade\, Mobile Area Chamber of Commerce\n\n        *      Kevin Bube\, Vice President\, Client Operations\, Atlas RFID Solutions\n   \n\n        *      Ramsay Geha\, Vice President\, International Sales\,Irrigation Components\n   \n\n        *      Jeff Hammock\, CEO\, MechOptix\n   \n\n        * Mac McCaffery\, Vice President\, Quality Valve\, Inc.\n\n  Date: 14th September\n Venue: TBA\n  If you are interested in investing in Alabama or want to know more\, or if you are doing business in Alabama\, please register your interest to meeting with this group by emailing Mike Hearn\, Executive Director of the American Chamber of Commerce in NZ email: mike@amcham.co.nz\n\n
DTSTAMP:20260424T112554Z
END:VEVENT
END:VCALENDAR
