BEGIN:VCALENDAR
VERSION:2.0
METHOD:PUBLISH
BEGIN:VEVENT
UID:WILD_APRICOT_EVENT_2598993_SESSION_1
DTSTART:20170809T000000Z
DTEND:20170809T020000Z
SUMMARY:Wellington CEO's state of the Boardroom lunch series
LOCATION:Bolton Hotel\, Corner of Bolton and Mowbray Streets\, Wellington
DESCRIPTION:https://www.amcham.co.nz/event-2598993\n\n   By invitation only 
DTSTAMP:20260424T120259Z
END:VEVENT
END:VCALENDAR
