BEGIN:VCALENDAR
VERSION:2.0
METHOD:PUBLISH
BEGIN:VEVENT
UID:WILD_APRICOT_EVENT_2363072_SESSION_1
DTSTART:20161130T033000Z
DTEND:20161130T060000Z
SUMMARY:Women in Business with Helen Robinson\, Joanna Doolan & Sarah Noonan
LOCATION:Buddle Findlay\, PwC Tower\, 188 Quay Street\, Auckland\, 1010
DESCRIPTION:https://www.amcham.co.nz/event-2363072\n\nWomen in Business with Helen Robinson\, Joanna Doolan & Sarah Noonan\n\n  \n\n  Helen Robinson\, a professional director\, was recently announced as the Supreme winner at the Women of Influence awards.  Former roles included Managing Director of Microsoft NZ. Current roles include: \n Director of Penguin Consulting Ltd\,\n Chair of The Network for learning Ltd\n Chair of Cloud M\n Director of Auckland Tourism\, Events & Economic Development\n Trustee of Aktive Auckland Sport & Recreation\n Co-Founder & Executive Director of Organic Initiative\n  \n\n  Joanna Doolan has over 30 years of tax experience working at EY.  Jo’s is about making a difference in New Zealand and is actively involved in numerous areas that provide assistance and support to start up businesses and charitable organizations. Having recently retired from EY\, Jo is focusing on new interests including:\n Advisory Board Member of Global Women\n Programme Director of Entrepreneurial Women\n Executive Consultant EY Darden Programme\n     \n   \n\n  Sarah Noonan\, Chief Operating Officer of Curious Film. I lead and manage multiple entities across production\, post-production and distribution for this award winning company. I developed and delivered a global growth strategy that substantially increased revenue and profits and positioned Curious Films for ongoing global growth across both the B2B and BC markets. I established from inception a new distribution arm for the business including: negotiating acquisition of more than 60 titles\; managing the successful release of several high profile award-winning films\, including Winter’s Bone\, Jiro Dreams of Sushi\, The Rocket (Australia’s Academy Awards entry) and Ida\, winner Best Foreign Language Academy Award 2015 among others.\n  Date: 30th November\n Venue: Buddle Findlay\, PWC Tower\, 188 Quay Street\, Auckland 1010\n Time: 4.30pm to 7.00pm\, presentation followed by refreshments and networking\n Cost: Members $35 + GST\, Non-Members $45 + GST\, Young Professionals (under 35) $35 +GST\n\n  NUMBERS LIMITED TO 80\n  Supported by\n\n  \n\n
DTSTAMP:20260424T115346Z
END:VEVENT
END:VCALENDAR
